BEGIN:VCALENDAR
VERSION:2.0
PRODID:-//Tukios.com/
BEGIN:VEVENT
UID:3a0ba3d1-a379-4c34-9241-db0666c17944@www.swedbergfuneralhome.com
DTSTAMP:20260421T012024Z
DTSTART:20260508T170000Z
DTEND:20260508T180000Z
SUMMARY:Visitation
DESCRIPTION:
URL:https://www.swedbergfuneralhome.com/obituaries/jacqueline-hutchinson
LOCATION:St. Catherine Labouré 3535 Thornwood Avenue  Glenview IL 60026
GEO:42.0833075;-87.8420827
END:VEVENT
END:VCALENDAR