BEGIN:VCALENDAR
VERSION:2.0
PRODID:-//Tukios.com/
BEGIN:VEVENT
UID:ee36f5eb-5f53-4480-8751-b10d30b97889@www.swedbergfuneralhome.com
DTSTAMP:20260421T012515Z
DTSTART:20260509T193000Z
DTEND:20260509T203000Z
SUMMARY:Burial
DESCRIPTION:
URL:https://www.swedbergfuneralhome.com/obituaries/jacqueline-hutchinson
LOCATION: 1111 East Green Bay Street  Shawano WI 54166
GEO:44.7822327;-88.5829209
END:VEVENT
END:VCALENDAR