BEGIN:VCALENDAR
VERSION:2.0
PRODID:-//Tukios.com/
BEGIN:VEVENT
UID:8dc9ef0b-d767-40e5-a581-bf456b77b05b@www.swedbergfuneralhome.com
DTSTAMP:20260421T012810Z
DTSTART:20260508T180000Z
DTEND:20260508T190000Z
SUMMARY:Funeral Mass
DESCRIPTION:
URL:https://www.swedbergfuneralhome.com/obituaries/jacqueline-hutchinson
LOCATION:St Catherine Laboure Catholic 3535 Thornwood Ave  Glenview IL 
	60026
GEO:42.0833075;-87.8420827
END:VEVENT
END:VCALENDAR