BEGIN:VCALENDAR
VERSION:2.0
PRODID:-//Tukios.com/
BEGIN:VEVENT
UID:cc385f6c-0cc5-467c-a323-a371b453b36c@www.swedbergfuneralhome.com
DTSTAMP:20260420T170615Z
DTSTART:20260423T190000Z
DTEND:20260423T200000Z
SUMMARY:Visitation
DESCRIPTION:Friends and family may visit St. Michael’s Parish Hall in 
	Keshena, starting at 1:00pm on Thursday April 23, 2026, until the 
	procession leaves at 8:30 am on Saturday April 25, 2026.
URL:https://www.swedbergfuneralhome.com/obituaries/lori-waukau
LOCATION: n 816 WI-47  Keshena WI 54135
GEO:44.8822054;-88.6306494
END:VEVENT
END:VCALENDAR