BEGIN:VCALENDAR
VERSION:2.0
PRODID:-//Tukios.com/
BEGIN:VEVENT
UID:69d0e150-6bec-4a45-833f-4bcabe351285@www.swedbergfuneralhome.com
DTSTAMP:20260420T170335Z
DTSTART:20260425T170000Z
DTEND:20260425T180000Z
SUMMARY:Funeral Mass
DESCRIPTION:
URL:https://www.swedbergfuneralhome.com/obituaries/lori-waukau
LOCATION: W6786 Bureau of Indian Affairs Route 431  Neopit WI 54150
GEO:44.9792877;-88.8328538
END:VEVENT
END:VCALENDAR